BEGIN:VCALENDAR
VERSION:2.0
PRODID:-//Westgate Hotel - ECPv6.15.20//NONSGML v1.0//EN
CALSCALE:GREGORIAN
METHOD:PUBLISH
X-WR-CALNAME:Westgate Hotel
X-ORIGINAL-URL:https://www.westgatehotel.com
X-WR-CALDESC:Events for Westgate Hotel
REFRESH-INTERVAL;VALUE=DURATION:PT1H
X-Robots-Tag:noindex
X-PUBLISHED-TTL:PT1H
BEGIN:VTIMEZONE
TZID:America/Los_Angeles
BEGIN:DAYLIGHT
TZOFFSETFROM:-0800
TZOFFSETTO:-0700
TZNAME:PDT
DTSTART:20250309T100000
END:DAYLIGHT
BEGIN:STANDARD
TZOFFSETFROM:-0700
TZOFFSETTO:-0800
TZNAME:PST
DTSTART:20251102T090000
END:STANDARD
BEGIN:DAYLIGHT
TZOFFSETFROM:-0800
TZOFFSETTO:-0700
TZNAME:PDT
DTSTART:20260308T100000
END:DAYLIGHT
BEGIN:STANDARD
TZOFFSETFROM:-0700
TZOFFSETTO:-0800
TZNAME:PST
DTSTART:20261101T090000
END:STANDARD
BEGIN:DAYLIGHT
TZOFFSETFROM:-0800
TZOFFSETTO:-0700
TZNAME:PDT
DTSTART:20270314T100000
END:DAYLIGHT
BEGIN:STANDARD
TZOFFSETFROM:-0700
TZOFFSETTO:-0800
TZNAME:PST
DTSTART:20271107T090000
END:STANDARD
END:VTIMEZONE
BEGIN:VEVENT
DTSTART;TZID=America/Los_Angeles:20260503T130000
DTEND;TZID=America/Los_Angeles:20260503T170000
DTSTAMP:20260423T030416
CREATED:20260406T184944Z
LAST-MODIFIED:20260407T162427Z
UID:10006515-1777813200-1777827600@www.westgatehotel.com
SUMMARY:Mother's Day Tea (Weekends)
DESCRIPTION:Celebrate Mom with an afternoon of elegance\, indulgence\, and tradition.\nMake Mother’s Day a grand occasion with Westgate’s time-honored tradition of Afternoon\nTea. Enjoy quality time with Mom over freshly brewed pots of tea\, delicate tea sandwiches\nfrom the kitchen of the Westgate Room\, and a selection of handmade pastries\, French\nmacarons\, and cakes. A live harpist will serenade throughout tea service\, and a\ncomplimentary glass of champagne for Mom will make the day especially sweet. \nReservations\nMake a reservation \nPricing\nAdults: $95 \nChildren ages 2-12: $65 \nChildren 1 & under: Complimentary \n*All pricing includes tax and gratuity \nParking\n$10 for three hours with validation (standard rate thereafter) \nDietary Restrictions\nWe are happy to accommodate guests who have dietary restrictions.\nGuests can mention dietary restrictions on the reservation notes\, including vegan\,\nvegetarian\, gluten-free\, and dairy-free. Please specify if an adult or a child has dietary\nrestrictions and how many people. \nCancellations\nMother’s Day Tea reservations will require a credit card guarantee 72-hour\ncancellation policy. Canceling after the deadline will cause a penalty of $50 cancellation\nfee per person.
URL:https://www.westgatehotel.com/event/mothers-day-tea-weekends/2026-05-03/
LOCATION:Grand Lobby
CATEGORIES:Afternoon Tea,Mother's Day,Specialty Tea
ATTACH;FMTTYPE=image/jpeg:https://www.westgatehotel.com/wp-content/uploads/2026/04/WG-Tea-Lobby-Interiors-DSC05082-RV-1-1200x800-5b2df79.jpg
END:VEVENT
BEGIN:VEVENT
DTSTART;TZID=America/Los_Angeles:20260506T130000
DTEND;TZID=America/Los_Angeles:20260506T170000
DTSTAMP:20260423T030416
CREATED:20260407T152651Z
LAST-MODIFIED:20260407T162434Z
UID:10006508-1778072400-1778086800@www.westgatehotel.com
SUMMARY:Mother's Day Tea (Weekdays)
DESCRIPTION:Celebrate Mom with an afternoon of elegance\, indulgence\, and tradition.\nMake Mother’s Day a grand occasion with Westgate’s time-honored tradition of Afternoon\nTea. Enjoy quality time with Mom over freshly brewed pots of tea\, delicate tea sandwiches\nfrom the kitchen of the Westgate Room\, and a selection of handmade pastries\, French\nmacarons\, and cakes. A live harpist will serenade throughout tea service\, and a\ncomplimentary glass of champagne for Mom will make the day especially sweet. \nReservations\nMake a reservation \nPricing\nAdults: $95 \nChildren ages 2-12: $65 \nChildren 1 & under: Complimentary \n*All pricing includes tax and gratuity \nParking\n$10 for three hours with validation (standard rate thereafter) \nDietary Restrictions\nWe are happy to accommodate guests who have dietary restrictions.\nGuests can mention dietary restrictions on the reservation notes\, including vegan\,\nvegetarian\, gluten-free\, and dairy-free. Please specify if an adult or a child has dietary\nrestrictions and how many people. \nCancellations\nMother’s Day Tea reservations will require a credit card guarantee 72-hour\ncancellation policy. Canceling after the deadline will cause a penalty of $50 cancellation\nfee per person.
URL:https://www.westgatehotel.com/event/mothers-day-tea-weekdays/2026-05-06/
LOCATION:Grand Lobby
CATEGORIES:Afternoon Tea,Mother's Day,Specialty Tea
ATTACH;FMTTYPE=image/jpeg:https://www.westgatehotel.com/wp-content/uploads/2026/04/WG-Tea-Lobby-Interiors-DSC05082-RV-1-1200x800-5b2df79.jpg
END:VEVENT
BEGIN:VEVENT
DTSTART;TZID=America/Los_Angeles:20260507T130000
DTEND;TZID=America/Los_Angeles:20260507T170000
DTSTAMP:20260423T030416
CREATED:20260407T152651Z
LAST-MODIFIED:20260407T162434Z
UID:10006509-1778158800-1778173200@www.westgatehotel.com
SUMMARY:Mother's Day Tea (Weekdays)
DESCRIPTION:Celebrate Mom with an afternoon of elegance\, indulgence\, and tradition.\nMake Mother’s Day a grand occasion with Westgate’s time-honored tradition of Afternoon\nTea. Enjoy quality time with Mom over freshly brewed pots of tea\, delicate tea sandwiches\nfrom the kitchen of the Westgate Room\, and a selection of handmade pastries\, French\nmacarons\, and cakes. A live harpist will serenade throughout tea service\, and a\ncomplimentary glass of champagne for Mom will make the day especially sweet. \nReservations\nMake a reservation \nPricing\nAdults: $95 \nChildren ages 2-12: $65 \nChildren 1 & under: Complimentary \n*All pricing includes tax and gratuity \nParking\n$10 for three hours with validation (standard rate thereafter) \nDietary Restrictions\nWe are happy to accommodate guests who have dietary restrictions.\nGuests can mention dietary restrictions on the reservation notes\, including vegan\,\nvegetarian\, gluten-free\, and dairy-free. Please specify if an adult or a child has dietary\nrestrictions and how many people. \nCancellations\nMother’s Day Tea reservations will require a credit card guarantee 72-hour\ncancellation policy. Canceling after the deadline will cause a penalty of $50 cancellation\nfee per person.
URL:https://www.westgatehotel.com/event/mothers-day-tea-weekdays/2026-05-07/
LOCATION:Grand Lobby
CATEGORIES:Afternoon Tea,Mother's Day,Specialty Tea
ATTACH;FMTTYPE=image/jpeg:https://www.westgatehotel.com/wp-content/uploads/2026/04/WG-Tea-Lobby-Interiors-DSC05082-RV-1-1200x800-5b2df79.jpg
END:VEVENT
BEGIN:VEVENT
DTSTART;TZID=America/Los_Angeles:20260508T130000
DTEND;TZID=America/Los_Angeles:20260508T170000
DTSTAMP:20260423T030416
CREATED:20260407T152651Z
LAST-MODIFIED:20260407T162434Z
UID:10006510-1778245200-1778259600@www.westgatehotel.com
SUMMARY:Mother's Day Tea (Weekdays)
DESCRIPTION:Celebrate Mom with an afternoon of elegance\, indulgence\, and tradition.\nMake Mother’s Day a grand occasion with Westgate’s time-honored tradition of Afternoon\nTea. Enjoy quality time with Mom over freshly brewed pots of tea\, delicate tea sandwiches\nfrom the kitchen of the Westgate Room\, and a selection of handmade pastries\, French\nmacarons\, and cakes. A live harpist will serenade throughout tea service\, and a\ncomplimentary glass of champagne for Mom will make the day especially sweet. \nReservations\nMake a reservation \nPricing\nAdults: $95 \nChildren ages 2-12: $65 \nChildren 1 & under: Complimentary \n*All pricing includes tax and gratuity \nParking\n$10 for three hours with validation (standard rate thereafter) \nDietary Restrictions\nWe are happy to accommodate guests who have dietary restrictions.\nGuests can mention dietary restrictions on the reservation notes\, including vegan\,\nvegetarian\, gluten-free\, and dairy-free. Please specify if an adult or a child has dietary\nrestrictions and how many people. \nCancellations\nMother’s Day Tea reservations will require a credit card guarantee 72-hour\ncancellation policy. Canceling after the deadline will cause a penalty of $50 cancellation\nfee per person.
URL:https://www.westgatehotel.com/event/mothers-day-tea-weekdays/2026-05-08/
LOCATION:Grand Lobby
CATEGORIES:Afternoon Tea,Mother's Day,Specialty Tea
ATTACH;FMTTYPE=image/jpeg:https://www.westgatehotel.com/wp-content/uploads/2026/04/WG-Tea-Lobby-Interiors-DSC05082-RV-1-1200x800-5b2df79.jpg
END:VEVENT
BEGIN:VEVENT
DTSTART;TZID=America/Los_Angeles:20260509T110000
DTEND;TZID=America/Los_Angeles:20260509T160000
DTSTAMP:20260423T030416
CREATED:20260406T184944Z
LAST-MODIFIED:20260407T162427Z
UID:10006516-1778324400-1778342400@www.westgatehotel.com
SUMMARY:Mother's Day Tea (Weekends)
DESCRIPTION:Celebrate Mom with an afternoon of elegance\, indulgence\, and tradition.\nMake Mother’s Day a grand occasion with Westgate’s time-honored tradition of Afternoon\nTea. Enjoy quality time with Mom over freshly brewed pots of tea\, delicate tea sandwiches\nfrom the kitchen of the Westgate Room\, and a selection of handmade pastries\, French\nmacarons\, and cakes. A live harpist will serenade throughout tea service\, and a\ncomplimentary glass of champagne for Mom will make the day especially sweet. \nReservations\nMake a reservation \nPricing\nAdults: $95 \nChildren ages 2-12: $65 \nChildren 1 & under: Complimentary \n*All pricing includes tax and gratuity \nParking\n$10 for three hours with validation (standard rate thereafter) \nDietary Restrictions\nWe are happy to accommodate guests who have dietary restrictions.\nGuests can mention dietary restrictions on the reservation notes\, including vegan\,\nvegetarian\, gluten-free\, and dairy-free. Please specify if an adult or a child has dietary\nrestrictions and how many people. \nCancellations\nMother’s Day Tea reservations will require a credit card guarantee 72-hour\ncancellation policy. Canceling after the deadline will cause a penalty of $50 cancellation\nfee per person.
URL:https://www.westgatehotel.com/event/mothers-day-tea-weekends/2026-05-09/
LOCATION:Grand Lobby
CATEGORIES:Afternoon Tea,Mother's Day,Specialty Tea
ATTACH;FMTTYPE=image/jpeg:https://www.westgatehotel.com/wp-content/uploads/2026/04/WG-Tea-Lobby-Interiors-DSC05082-RV-1-1200x800-5b2df79.jpg
END:VEVENT
BEGIN:VEVENT
DTSTART;TZID=America/Los_Angeles:20260510T063000
DTEND;TZID=America/Los_Angeles:20260510T140000
DTSTAMP:20260423T030416
CREATED:20260417T232148Z
LAST-MODIFIED:20260420T183039Z
UID:10006535-1778394600-1778421600@www.westgatehotel.com
SUMMARY:Mother's Day Brunch at Bonne Vie
DESCRIPTION:Celebrate Mom In The New Bonne Vie Brasserie\nCelebrate Mother’s Day with a French-inspired brunch at Bonne Vie Brasserie. Executive Chef Fabrice Hardel will present a special-themed menu alongside the brasserie’s Sunday brunch\, with a live crepe station and a dessert display arranged in the lobby just outside the dining room. Complimentary Champagne is served to each adult\, and a Bloody Mary cart will circulate throughout service. Reservations are encouraged. \nReservations\nMake a reservation \nPricing\nAdults: $59 \nChildren under 12: $35 \nParking\n$10 for three hours with validation (standard rate thereafter) \nDietary Restrictions\nWe are happy to accommodate guests who have dietary restrictions.\nGuests can mention dietary restrictions on the reservation notes\, including vegan\,\nvegetarian\, gluten-free\, and dairy-free. Please specify if an adult or a child has dietary restrictions and how many people.
URL:https://www.westgatehotel.com/event/mothers-day-at-bonne-vie/
LOCATION:Bonne Vie Brasserie & Bar
CATEGORIES:Dining,Holidays,Mother's Day
ATTACH;FMTTYPE=image/jpeg:https://www.westgatehotel.com/wp-content/uploads/2025/11/2025_10_WG_BonneVie_Interiors-3455_Edit_V1-1201x800-5b2df79.jpg
END:VEVENT
BEGIN:VEVENT
DTSTART;TZID=America/Los_Angeles:20260510T110000
DTEND;TZID=America/Los_Angeles:20260510T160000
DTSTAMP:20260423T030416
CREATED:20260406T184944Z
LAST-MODIFIED:20260407T162427Z
UID:10006517-1778410800-1778428800@www.westgatehotel.com
SUMMARY:Mother's Day Tea (Weekends)
DESCRIPTION:Celebrate Mom with an afternoon of elegance\, indulgence\, and tradition.\nMake Mother’s Day a grand occasion with Westgate’s time-honored tradition of Afternoon\nTea. Enjoy quality time with Mom over freshly brewed pots of tea\, delicate tea sandwiches\nfrom the kitchen of the Westgate Room\, and a selection of handmade pastries\, French\nmacarons\, and cakes. A live harpist will serenade throughout tea service\, and a\ncomplimentary glass of champagne for Mom will make the day especially sweet. \nReservations\nMake a reservation \nPricing\nAdults: $95 \nChildren ages 2-12: $65 \nChildren 1 & under: Complimentary \n*All pricing includes tax and gratuity \nParking\n$10 for three hours with validation (standard rate thereafter) \nDietary Restrictions\nWe are happy to accommodate guests who have dietary restrictions.\nGuests can mention dietary restrictions on the reservation notes\, including vegan\,\nvegetarian\, gluten-free\, and dairy-free. Please specify if an adult or a child has dietary\nrestrictions and how many people. \nCancellations\nMother’s Day Tea reservations will require a credit card guarantee 72-hour\ncancellation policy. Canceling after the deadline will cause a penalty of $50 cancellation\nfee per person.
URL:https://www.westgatehotel.com/event/mothers-day-tea-weekends/2026-05-10/
LOCATION:Grand Lobby
CATEGORIES:Afternoon Tea,Mother's Day,Specialty Tea
ATTACH;FMTTYPE=image/jpeg:https://www.westgatehotel.com/wp-content/uploads/2026/04/WG-Tea-Lobby-Interiors-DSC05082-RV-1-1200x800-5b2df79.jpg
END:VEVENT
END:VCALENDAR